﻿BEGIN:VCALENDAR
VERSION:2.0
PRODID:-//Rockspire - ECPv6.0.12//NONSGML v1.0//EN
CALSCALE:GREGORIAN
METHOD:PUBLISH
X-ORIGINAL-URL:https://rockspire.com
X-WR-CALDESC:Events for Rockspire
REFRESH-INTERVAL;VALUE=DURATION:PT1H
X-Robots-Tag:noindex
X-PUBLISHED-TTL:PT1H
BEGIN:VTIMEZONE
TZID:America/Chicago
BEGIN:DAYLIGHT
TZOFFSETFROM:-0600
TZOFFSETTO:-0500
TZNAME:CDT
DTSTART:20260308T080000
END:DAYLIGHT
BEGIN:STANDARD
TZOFFSETFROM:-0500
TZOFFSETTO:-0600
TZNAME:CST
DTSTART:20261101T070000
END:STANDARD
END:VTIMEZONE
BEGIN:VEVENT
DTSTART;TZID=America/Chicago:20260523T160000
DTEND;TZID=America/Chicago:20260523T200000
DTSTAMP:20260425T082346
CREATED:20260205T112721Z
LAST-MODIFIED:20260205T112721Z
UID:8753-1779552000-1779566400@rockspire.com
SUMMARY:Opera in the Ozarks
DESCRIPTION:
URL:https://rockspire.com/events-calendar-4/opera-in-the-ozarks/
LOCATION:MobbyMac Carriage House @ Rockspire\, 84 Orchard Ridge Rd.\, Eureka Springs\, Arkansas\, 72632\, United States
CATEGORIES:Rockspire Events
END:VEVENT
BEGIN:VEVENT
DTSTART;TZID=America/Chicago:20260526T100000
DTEND;TZID=America/Chicago:20260526T120000
DTSTAMP:20260425T082346
CREATED:20260418T115556Z
LAST-MODIFIED:20260418T115556Z
UID:8791-1779789600-1779796800@rockspire.com
SUMMARY:Rockspire Neighborhood Memory Cafe
DESCRIPTION:
URL:https://rockspire.com/events-calendar-4/rockspire-neighborhood-memory-cafe-2/
LOCATION:MobbyMac Carriage House @ Rockspire\, 84 Orchard Ridge Rd.\, Eureka Springs\, Arkansas\, 72632\, United States
CATEGORIES:Rockspire Events
END:VEVENT
BEGIN:VEVENT
DTSTART;TZID=America/Chicago:20260528T090000
DTEND;TZID=America/Chicago:20260528T103000
DTSTAMP:20260425T082346
CREATED:20260421T000635Z
LAST-MODIFIED:20260421T000635Z
UID:8795-1779958800-1779964200@rockspire.com
SUMMARY:Rockspire LLC Members' Meeting
DESCRIPTION:
URL:https://rockspire.com/events-calendar-4/rockspire-llc-members-meeting-4/
LOCATION:Zoom Meeting
CATEGORIES:Members' Meetings
END:VEVENT
END:VCALENDAR